BEGIN:VCALENDAR
VERSION:2.0
PRODID:-//Oliver Gorton - ECPv6.15.12.2//NONSGML v1.0//EN
CALSCALE:GREGORIAN
METHOD:PUBLISH
X-ORIGINAL-URL:https://www.olivergorton.co.uk
X-WR-CALDESC:Events for Oliver Gorton
REFRESH-INTERVAL;VALUE=DURATION:PT1H
X-Robots-Tag:noindex
X-PUBLISHED-TTL:PT1H
BEGIN:VTIMEZONE
TZID:UTC
BEGIN:STANDARD
TZOFFSETFROM:+0000
TZOFFSETTO:+0000
TZNAME:UTC
DTSTART:20240101T000000
END:STANDARD
END:VTIMEZONE
BEGIN:VEVENT
DTSTART;TZID=UTC:20251214T190000
DTEND;TZID=UTC:20251214T220000
DTSTAMP:20260419T195737
CREATED:20251208T132552Z
LAST-MODIFIED:20251210T123908Z
UID:54-1765738800-1765749600@www.olivergorton.co.uk
SUMMARY:Deck The Hall at Halifax Minster With Out Of The Box Singers
DESCRIPTION:Join the Out of the Box Singers for an evening of fun\, laughter\, and heart-warming harmonies in the stunning setting of Halifax Minster.Soak in the beauty of this historic venue as we fill it with joyful songs of the season — the perfect way to get into the festive spirit
URL:https://www.olivergorton.co.uk/event/deck-the-hall-at-halifax-minster-with-out-of-the-box-singers/
LOCATION:Halifax Minster\, Causeway\, Halifax\, Calderdale\, HX1 1QL\, United Kingdom
ATTACH;FMTTYPE=image/jpeg:https://www.olivergorton.co.uk/wp-content/uploads/2025/12/548214334_1305051468081731_7001492244324979236_n.jpg
ORGANIZER;CN="Out of the Box singers":MAILTO:info@outoftheboxsingers.co.uk
END:VEVENT
END:VCALENDAR