BEGIN:VCALENDAR
VERSION:2.0
PRODID:-//Oliver Gorton - ECPv6.15.12.2//NONSGML v1.0//EN
CALSCALE:GREGORIAN
METHOD:PUBLISH
X-WR-CALNAME:Oliver Gorton
X-ORIGINAL-URL:https://www.olivergorton.co.uk
X-WR-CALDESC:Events for Oliver Gorton
REFRESH-INTERVAL;VALUE=DURATION:PT1H
X-Robots-Tag:noindex
X-PUBLISHED-TTL:PT1H
BEGIN:VTIMEZONE
TZID:UTC
BEGIN:STANDARD
TZOFFSETFROM:+0000
TZOFFSETTO:+0000
TZNAME:UTC
DTSTART:20250101T000000
END:STANDARD
END:VTIMEZONE
BEGIN:VEVENT
DTSTART;VALUE=DATE:20260411
DTEND;VALUE=DATE:20260412
DTSTAMP:20260419T144305
CREATED:20251208T133518Z
LAST-MODIFIED:20251210T123704Z
UID:75-1775865600-1775951999@www.olivergorton.co.uk
SUMMARY:Bach - Mass In B Minor With St Endellion Festival
DESCRIPTION:Bach Mass in B Minor \nConductor – John Butt \nSt Endellion Festival Orchestra \nSt Endellion Festival Chorus \n 
URL:https://www.olivergorton.co.uk/event/bach-mass-in-b-minor/
LOCATION:Church of St Endellion\, St Endellion Church \, Port Isaac\, PL29 3TP
ATTACH;FMTTYPE=image/png:https://www.olivergorton.co.uk/wp-content/uploads/2025/12/st-endellion.png
END:VEVENT
END:VCALENDAR